BEGIN:VCALENDAR
VERSION:2.0
PRODID:-//Los Angeles Customs Brokers and Freight Forwarders 
 Association//Silkstart Technology Inc.//
BEGIN:VTIMEZONE
TZID:America/Los_Angeles
BEGIN:DAYLIGHT
DTSTART;VALUE=DATE-TIME:20260308T020000
TZNAME:PDT
TZOFFSETFROM:-0800
TZOFFSETTO:-0700
END:DAYLIGHT
BEGIN:STANDARD
DTSTART;VALUE=DATE-TIME:20261101T020000
TZNAME:PST
TZOFFSETFROM:-0700
TZOFFSETTO:-0800
END:STANDARD
END:VTIMEZONE
BEGIN:VEVENT
SUMMARY:From Hype to Value: Best Practices for Applying AI in Customs 
 Brokerage
DTSTART;TZID=America/Los_Angeles;VALUE=DATE-TIME:20260429T110000
DTEND;TZID=America/Los_Angeles;VALUE=DATE-TIME:20260429T120000
DTSTAMP;VALUE=DATE-TIME:20260420T230609
UID:69e6b16151ea1f05dad1196d
DESCRIPTION: Artificial Intelligence is transforming global 
 trade&mdash\;but for customs brokers and technology providers\, separating
  real opportunity from industry hype can be challenging. Where does AI 
 truly add value in the customs brokerage workflow\, and how can 
 organizations prioritize the right use cases? 
LOCATION:Online via GoTo Webinar
PRIORITY:5
URL:https://www.lacbffa.org:443/events/from-hype-to-value-best-practices-
 for-applying-ai-in-customs-brokerage
END:VEVENT
END:VCALENDAR
